BEGIN:VCALENDAR
VERSION:2.0
PRODID:-//SVP Rupperswil //NONSGML Events //EN
CALSCALE:GREGORIAN
X-WR-CALNAME:SVP Rupperswil
BEGIN:VEVENT
CREATED:20220126T080610Z
UID:1005
DTEND:20221127T000000
DTSTART:20221127T000000
DTSTAMP:20260420T084254Z
LOCATION:
DESCRIPTION:
SUMMARY:Volksabstimmung vom 27. November 2022
ORGANIZER:
URL;VALUE=URI:https://www.svp-rupperswil.ch/termine/volksabstimmung-vom-27-november-2022/
TRANSP:OPAQUE
END:VEVENT
END:VCALENDAR
