BEGIN:VCALENDAR
VERSION:2.0
PRODID:-//SVP Rupperswil //NONSGML Events //EN
CALSCALE:GREGORIAN
X-WR-CALNAME:SVP Rupperswil
BEGIN:VEVENT
CREATED:20250804T091815Z
UID:1228
DTEND:20260422T000000
DTSTART:20260422T000000
DTSTAMP:20260422T152652Z
LOCATION:
DESCRIPTION:«Geschichte, Persönlichkeiten und Eigenheiten des Emmentals» gefüh
SUMMARY:Parteiausflug Emmental
ORGANIZER:
URL;VALUE=URI:https://www.svp-rupperswil.ch/termine/parteiausflug-emmental/
TRANSP:OPAQUE
END:VEVENT
END:VCALENDAR
