BEGIN:VCALENDAR
VERSION:2.0
PRODID:-//SVP Rupperswil //NONSGML Events //EN
CALSCALE:GREGORIAN
X-WR-CALNAME:SVP Rupperswil
BEGIN:VEVENT
CREATED:20250804T091912Z
UID:1230
DTEND:20260520T000000
DTSTART:20260520T000000
DTSTAMP:20260422T134940Z
LOCATION:Rupperswil
DESCRIPTION:
SUMMARY:Generalversammlung mit Referat von Herrn RR Jean-Pierre Gallati
ORGANIZER:
URL;VALUE=URI:https://www.svp-rupperswil.ch/termine/generalversammlung-mit-referat-von-herrn-rr-jean-pierre-gallati/
TRANSP:OPAQUE
END:VEVENT
END:VCALENDAR
