BEGIN:VCALENDAR
VERSION:2.0
PRODID:-//SVP Rupperswil //NONSGML Events //EN
CALSCALE:GREGORIAN
X-WR-CALNAME:SVP Rupperswil
BEGIN:VEVENT
CREATED:20250804T092116Z
UID:1232
DTEND:20260605T000000
DTSTART:20260605T000000
DTSTAMP:20260422T134211Z
LOCATION:Rupperswil
DESCRIPTION:
SUMMARY:Gemeindeversammlung
ORGANIZER:
URL;VALUE=URI:https://www.svp-rupperswil.ch/termine/gemeindeversammlung-3/
TRANSP:OPAQUE
END:VEVENT
END:VCALENDAR
