BEGIN:VCALENDAR
VERSION:2.0
PRODID:-//SVP Rupperswil //NONSGML Events //EN
CALSCALE:GREGORIAN
X-WR-CALNAME:SVP Rupperswil
BEGIN:VEVENT
CREATED:20250804T092216Z
UID:1234
DTEND:20261105T000000
DTSTART:20261105T000000
DTSTAMP:20260422T152644Z
LOCATION:
DESCRIPTION:
SUMMARY:Parteiversammlung mit Referat von Herrn NR Christian Glur
ORGANIZER:
URL;VALUE=URI:https://www.svp-rupperswil.ch/termine/parteiversammlung-mit-referat-von-herrn-nr-christian-glur/
TRANSP:OPAQUE
END:VEVENT
END:VCALENDAR
