BEGIN:VCALENDAR
VERSION:2.0
PRODID:-//SVP Rupperswil //NONSGML Events //EN
CALSCALE:GREGORIAN
X-WR-CALNAME:SVP Rupperswil
BEGIN:VEVENT
CREATED:20250804T092300Z
UID:1236
DTEND:20261120T000000
DTSTART:20261120T000000
DTSTAMP:20260422T150208Z
LOCATION:
DESCRIPTION:
SUMMARY:Gemeindeversammlung
ORGANIZER:
URL;VALUE=URI:https://www.svp-rupperswil.ch/termine/gemeindeversammlung-4/
TRANSP:OPAQUE
END:VEVENT
END:VCALENDAR
