BEGIN:VCALENDAR
VERSION:2.0
PRODID:-//SVP Rupperswil //NONSGML Events //EN
CALSCALE:GREGORIAN
X-WR-CALNAME:SVP Rupperswil
BEGIN:VEVENT
CREATED:20260114T075305Z
UID:1280
DTEND:20260826T000000
DTSTART:20260826T000000
DTSTAMP:20260422T150039Z
LOCATION:
DESCRIPTION:
SUMMARY:Kantonalparteitag
ORGANIZER:
URL;VALUE=URI:https://www.svp-rupperswil.ch/termine/kantonalparteitag-2/
TRANSP:OPAQUE
END:VEVENT
END:VCALENDAR
