BEGIN:VCALENDAR
VERSION:2.0
PRODID:-//SVP Rupperswil //NONSGML Events //EN
CALSCALE:GREGORIAN
X-WR-CALNAME:SVP Rupperswil
BEGIN:VEVENT
CREATED:20260114T075338Z
UID:1282
DTEND:20260927T000000
DTSTART:20260927T000000
DTSTAMP:20260422T153058Z
LOCATION:
DESCRIPTION:
SUMMARY:Abstimmungswochenende
ORGANIZER:
URL;VALUE=URI:https://www.svp-rupperswil.ch/termine/abstimmungswochenende-3/
TRANSP:OPAQUE
END:VEVENT
END:VCALENDAR
