BEGIN:VCALENDAR
VERSION:2.0
PRODID:-//SVP Rupperswil //NONSGML Events //EN
CALSCALE:GREGORIAN
X-WR-CALNAME:SVP Rupperswil
BEGIN:VEVENT
CREATED:20260114T075416Z
UID:1284
DTEND:20261028T000000
DTSTART:20261028T000000
DTSTAMP:20260422T151341Z
LOCATION:
DESCRIPTION:
SUMMARY:Kantonalparteitag
ORGANIZER:
URL;VALUE=URI:https://www.svp-rupperswil.ch/termine/kantonalparteitag-3/
TRANSP:OPAQUE
END:VEVENT
END:VCALENDAR
